BEGIN:VCALENDAR
VERSION:2.0
PRODID:GIGPRESS 2.0 WORDPRESS PLUGIN
CALSCALE:GREGORIAN
X-WR-TIMEZONE:Etc/GMT
METHOD:PUBLISH
BEGIN:VTIMEZONE
TZID:GMT
BEGIN:STANDARD
DTSTART:20071028T010000
TZOFFSETTO:+0000
TZOFFSETFROM:+0000
END:STANDARD
END:VTIMEZONE
BEGIN:VEVENT
SUMMARY:Billy Joel at Rice-Eccles Stadium
DESCRIPTION:Tour: Billy Joel. All Ages
LOCATION:Rice-Eccles Stadium\, 451 1400 E\, Salt Lake City\, US
UID:20260523T010000Z-446-stephen.wright@wtmchicago.com
URL:http://www.fischmusic.com/tour-dates/
DTSTART;VALUE=DATE-TIME;TZID=GMT:20260523T010000Z
DTEND;VALUE=DATE-TIME;TZID=GMT:20260523T010000Z
DTSTAMP:20260426T125334Z
END:VEVENT
END:VCALENDAR