BEGIN:VCALENDAR
VERSION:2.0
PRODID:GIGPRESS 2.0 WORDPRESS PLUGIN
CALSCALE:GREGORIAN
X-WR-TIMEZONE:Etc/GMT
METHOD:PUBLISH
BEGIN:VTIMEZONE
TZID:GMT
BEGIN:STANDARD
DTSTART:20071028T010000
TZOFFSETTO:+0000
TZOFFSETFROM:+0000
END:STANDARD
END:VTIMEZONE
BEGIN:VEVENT
SUMMARY:Billy Joel at Scottish Gas Murrayfield
DESCRIPTION:Tour: Billy Joel. All Ages
LOCATION:Scottish Gas Murrayfield\, Edinburgh\, UK
UID:20260607T010000Z-447-stephen.wright@wtmchicago.com
URL:http://www.fischmusic.com/tour-dates/
DTSTART;VALUE=DATE-TIME;TZID=GMT:20260607T010000Z
DTEND;VALUE=DATE-TIME;TZID=GMT:20260607T010000Z
DTSTAMP:20260426T124205Z
END:VEVENT
END:VCALENDAR